BEGIN:VCALENDAR
VERSION:2.0
CALSCALE:GREGORIAN
PRODID:-//Diputació de Barcelona//DibaCMS//EN
BEGIN:VEVENT
UID:2142
DTSTAMP:20260421T122156
DTSTART:20211029T123000
DTEND:20211029T130000
SUMMARY:Junta de Govern Local
LOCATION:Plaça de la Vila S/N 08495 Fogars de la Selva
METHOD:PUBLISH
X-WR-CALNAME:fds.ajuntament@fogarsdelaselva.cat
X-WR-TIMEZONE:Europe/Madrid
DESCRIPTION:
URI:https://www.fogarsdelaselva.cat/ajuntament/govern/agenda-politica/junta-de-govern-local.html
CLASS:PUBLIC
END:VEVENT
END:VCALENDAR
