BEGIN:VCALENDAR
VERSION:2.0
CALSCALE:GREGORIAN
PRODID:-//Diputació de Barcelona//DibaCMS//EN
BEGIN:VEVENT
UID:2871
DTSTAMP:20260420T140429
DTSTART:20240504T083000
DTEND:20240504T140000
SUMMARY:Caminada Popular amb Botifarrada
LOCATION:08495 Fogars de la Selva
METHOD:PUBLISH
X-WR-CALNAME:fds.ajuntament@fogarsdelaselva.cat
X-WR-TIMEZONE:Europe/Madrid
DESCRIPTION:L'Associació de Dones de Fogars amb col.laboració amb l'Ajuntament, organitza una caminada popular amb botifarrada.

URI:https://www.fogarsdelaselva.cat/actualitat/agenda/2871-caminada-popular-amb-botifarrada.html
CLASS:PUBLIC
END:VEVENT
END:VCALENDAR
