BEGIN:VCALENDAR
VERSION:2.0
CALSCALE:GREGORIAN
PRODID:-//Diputació de Barcelona//DibaCMS//EN
BEGIN:VEVENT
UID:3006
DTSTAMP:20260420T102453
DTSTART:20241217T180000
DTEND:20241217T200000
SUMMARY:Com acompanyar el pas a l'adolescència?
LOCATION:08495 Fogars de la Selva
METHOD:PUBLISH
X-WR-CALNAME:fds.ajuntament@fogarsdelaselva.cat
X-WR-TIMEZONE:Europe/Madrid
DESCRIPTION:Taller adreçat a famílies d'adolescents.

URI:https://www.fogarsdelaselva.cat/actualitat/agenda/com-acompanyar-el-pas-a-ladolescencia.html
CLASS:PUBLIC
END:VEVENT
END:VCALENDAR
