BEGIN:VCALENDAR
VERSION:2.0
CALSCALE:GREGORIAN
PRODID:-//Diputació de Barcelona//DibaCMS//EN
BEGIN:VEVENT
UID:3136
DTSTAMP:20260420T105202
DTSTART:20250530T170000
DTEND:20250530T200000
SUMMARY:Festa Holi 2025
LOCATION:Plaça de la Vila 
METHOD:PUBLISH
X-WR-CALNAME:fds.ajuntament@fogarsdelaselva.cat
X-WR-TIMEZONE:Europe/Madrid
DESCRIPTION:Un altre any, la festa dels colors arriba a Fogars de la mà de l'Associació de Mares i Pares d'Alumnes "Les Falgueres".

URI:https://www.fogarsdelaselva.cat/actualitat/agenda/festa-holi-2025.html
CLASS:PUBLIC
END:VEVENT
END:VCALENDAR
