BEGIN:VCALENDAR
VERSION:2.0
CALSCALE:GREGORIAN
PRODID:-//Diputació de Barcelona//DibaCMS//EN
BEGIN:VEVENT
UID:3160
DTSTAMP:20260421T111801
DTSTART:20250705T210000
DTEND:20250705T235900
SUMMARY:La Fauna de la Nit
LOCATION:Serra de Marina 08495 Fogars de la Selva
METHOD:PUBLISH
X-WR-CALNAME:fds.ajuntament@fogarsdelaselva.cat
X-WR-TIMEZONE:Europe/Madrid
DESCRIPTION:Passejada Nocturna, recorregut suau.

URI:https://www.fogarsdelaselva.cat/actualitat/agenda/3160-la-fauna-de-la-nit.html
CLASS:PUBLIC
END:VEVENT
END:VCALENDAR
