BEGIN:VCALENDAR
VERSION:2.0
CALSCALE:GREGORIAN
PRODID:-//Diputació de Barcelona//DibaCMS//EN
BEGIN:VEVENT
UID:3168
DTSTAMP:20260421T105618
DTSTART:20250728T163000
DTEND:20250728T180000
SUMMARY:Bibliobús a Fogars de la Selva 
LOCATION:08495 Fogars de la Selva
METHOD:PUBLISH
X-WR-CALNAME:fds.ajuntament@fogarsdelaselva.cat
X-WR-TIMEZONE:Europe/Madrid
DESCRIPTION:El Bibliobús Serra de Bellmunt a Fogars de la Selva.

URI:https://www.fogarsdelaselva.cat/actualitat/agenda/3168-bibliobus-a-fogars-de-la-selva-.html
CLASS:PUBLIC
END:VEVENT
END:VCALENDAR
