BEGIN:VCALENDAR
VERSION:2.0
CALSCALE:GREGORIAN
PRODID:-//Diputació de Barcelona//DibaCMS//EN
BEGIN:VEVENT
UID:3233
DTSTAMP:20260421T111117
DTSTART:20251123T110000
DTEND:20251123T150000
SUMMARY:Arts i cultura local
LOCATION:Serra de Marina 08495 Fogars de la Selva
METHOD:PUBLISH
X-WR-CALNAME:fds.ajuntament@fogarsdelaselva.cat
X-WR-TIMEZONE:Europe/Madrid
DESCRIPTION:Concert de música tradicional amb Anaís Falco i Jaume Csalí i presentació de l'escriptor local Josep Ventura.

URI:https://www.fogarsdelaselva.cat/actualitat/agenda/arts-i-cultura-local.html
CLASS:PUBLIC
END:VEVENT
END:VCALENDAR
